BEGIN:VCALENDAR
VERSION:2.0
PRODID:-//Taunton Association of Performing Arts - ECPv6.15.20//NONSGML v1.0//EN
CALSCALE:GREGORIAN
METHOD:PUBLISH
X-WR-CALNAME:Taunton Association of Performing Arts
X-ORIGINAL-URL:https://tapa.org.uk
X-WR-CALDESC:Events for Taunton Association of Performing Arts
REFRESH-INTERVAL;VALUE=DURATION:PT1H
X-Robots-Tag:noindex
X-PUBLISHED-TTL:PT1H
BEGIN:VTIMEZONE
TZID:Europe/London
BEGIN:DAYLIGHT
TZOFFSETFROM:+0000
TZOFFSETTO:+0100
TZNAME:BST
DTSTART:20140330T010000
END:DAYLIGHT
BEGIN:STANDARD
TZOFFSETFROM:+0100
TZOFFSETTO:+0000
TZNAME:GMT
DTSTART:20141026T010000
END:STANDARD
BEGIN:DAYLIGHT
TZOFFSETFROM:+0000
TZOFFSETTO:+0100
TZNAME:BST
DTSTART:20150329T010000
END:DAYLIGHT
BEGIN:STANDARD
TZOFFSETFROM:+0100
TZOFFSETTO:+0000
TZNAME:GMT
DTSTART:20151025T010000
END:STANDARD
BEGIN:DAYLIGHT
TZOFFSETFROM:+0000
TZOFFSETTO:+0100
TZNAME:BST
DTSTART:20160327T010000
END:DAYLIGHT
BEGIN:STANDARD
TZOFFSETFROM:+0100
TZOFFSETTO:+0000
TZNAME:GMT
DTSTART:20161030T010000
END:STANDARD
BEGIN:DAYLIGHT
TZOFFSETFROM:+0000
TZOFFSETTO:+0100
TZNAME:BST
DTSTART:20170326T010000
END:DAYLIGHT
BEGIN:STANDARD
TZOFFSETFROM:+0100
TZOFFSETTO:+0000
TZNAME:GMT
DTSTART:20171029T010000
END:STANDARD
BEGIN:DAYLIGHT
TZOFFSETFROM:+0000
TZOFFSETTO:+0100
TZNAME:BST
DTSTART:20180325T010000
END:DAYLIGHT
BEGIN:STANDARD
TZOFFSETFROM:+0100
TZOFFSETTO:+0000
TZNAME:GMT
DTSTART:20181028T010000
END:STANDARD
BEGIN:DAYLIGHT
TZOFFSETFROM:+0000
TZOFFSETTO:+0100
TZNAME:BST
DTSTART:20190331T010000
END:DAYLIGHT
BEGIN:STANDARD
TZOFFSETFROM:+0100
TZOFFSETTO:+0000
TZNAME:GMT
DTSTART:20191027T010000
END:STANDARD
BEGIN:DAYLIGHT
TZOFFSETFROM:+0000
TZOFFSETTO:+0100
TZNAME:BST
DTSTART:20200329T010000
END:DAYLIGHT
BEGIN:STANDARD
TZOFFSETFROM:+0100
TZOFFSETTO:+0000
TZNAME:GMT
DTSTART:20201025T010000
END:STANDARD
BEGIN:DAYLIGHT
TZOFFSETFROM:+0000
TZOFFSETTO:+0100
TZNAME:BST
DTSTART:20210328T010000
END:DAYLIGHT
BEGIN:STANDARD
TZOFFSETFROM:+0100
TZOFFSETTO:+0000
TZNAME:GMT
DTSTART:20211031T010000
END:STANDARD
BEGIN:DAYLIGHT
TZOFFSETFROM:+0000
TZOFFSETTO:+0100
TZNAME:BST
DTSTART:20220327T010000
END:DAYLIGHT
BEGIN:STANDARD
TZOFFSETFROM:+0100
TZOFFSETTO:+0000
TZNAME:GMT
DTSTART:20221030T010000
END:STANDARD
BEGIN:DAYLIGHT
TZOFFSETFROM:+0000
TZOFFSETTO:+0100
TZNAME:BST
DTSTART:20230326T010000
END:DAYLIGHT
BEGIN:STANDARD
TZOFFSETFROM:+0100
TZOFFSETTO:+0000
TZNAME:GMT
DTSTART:20231029T010000
END:STANDARD
END:VTIMEZONE
BEGIN:VEVENT
DTSTART;TZID=Europe/London:20220728T193000
DTEND;TZID=Europe/London:20220728T220000
DTSTAMP:20260421T181118
CREATED:20220516T061339Z
LAST-MODIFIED:20220529T175702Z
UID:10003169-1659036600-1659045600@tapa.org.uk
SUMMARY:Taunton Thespians on tour present Tales from 1001 Arabian Nights at Muchelney Abbey\, near Langport
DESCRIPTION:Are you ready to set sail with Sinbad or adventure with Ali Baba? Let the magic of Scheherazade’s stories transport you on a magic carpet of humour\, drama and song. \nAfter a two-year gap\, the Thespians come roaring back for a two-week open-air summer tour with a brand new re-telling of much-loved Tales From the 1001 Arabian Nights. \nTickets are valid for any single performance of the ten date tour. \nBring friends\, chairs and a picnic. Gates open at 6.00pm for picnics
URL:https://tapa.org.uk/event/taunton-thespians-on-tour-present-tales-from-1001-arabian-nights-2/
LOCATION:Muchelney Abbey\, Muchelney\, Langport\, Somerset\, TA10 0DQ\, United Kingdom
CATEGORIES:Theatre
ATTACH;FMTTYPE=image/jpeg:https://tapa.org.uk/wp-content/uploads/2022/05/thumbnail_Web-banner-ts-7.jpg
GEO:51.0211831;-2.8151851
X-APPLE-STRUCTURED-LOCATION;VALUE=URI;X-ADDRESS=Muchelney Abbey Muchelney Langport Somerset TA10 0DQ United Kingdom;X-APPLE-RADIUS=500;X-TITLE=Muchelney:geo:-2.8151851,51.0211831
END:VEVENT
BEGIN:VEVENT
DTSTART;TZID=Europe/London:20150718T160000
DTEND;TZID=Europe/London:20150718T180000
DTSTAMP:20260421T181118
CREATED:20150522T102243Z
LAST-MODIFIED:20150522T102243Z
UID:10000133-1437235200-1437242400@tapa.org.uk
SUMMARY:Taunton Thespians   Summer Tour 2015 - She Stoops To Conquer
DESCRIPTION:Adult/OAPs  £12 \nChild U16/Student/Unwaged  £5 \nTaunton Thespians event tickets from TicketSource | The Online Box Office System\n\n\n\n\n\n\n\n\n\n\n\n\n\n\n\n\n\n\n\n\n\n\n\n\n\n\n\n\n\n\n\n\n\n\nBuy tickets for Taunton Thespians’s forthcoming events. Click the link for further information and to secure your tickets now!\n\n\n\n\n\n\n\n\nView on www.ticketsource.co.uk
URL:https://tapa.org.uk/event/taunton-thespians-summer-tour-2015-she-stoops-to-conquer-7/
LOCATION:Muchelney Abbey\, Muchelney\, Langport\, Somerset\, TA10 0DQ\, United Kingdom
CATEGORIES:Theatre
GEO:51.0211831;-2.8151851
X-APPLE-STRUCTURED-LOCATION;VALUE=URI;X-ADDRESS=Muchelney Abbey Muchelney Langport Somerset TA10 0DQ United Kingdom;X-APPLE-RADIUS=500;X-TITLE=Muchelney:geo:-2.8151851,51.0211831
END:VEVENT
END:VCALENDAR