BEGIN:VCALENDAR
VERSION:2.0
PRODID:-//Taunton Association of Performing Arts - ECPv6.15.20//NONSGML v1.0//EN
CALSCALE:GREGORIAN
METHOD:PUBLISH
X-WR-CALNAME:Taunton Association of Performing Arts
X-ORIGINAL-URL:https://tapa.org.uk
X-WR-CALDESC:Events for Taunton Association of Performing Arts
REFRESH-INTERVAL;VALUE=DURATION:PT1H
X-Robots-Tag:noindex
X-PUBLISHED-TTL:PT1H
BEGIN:VTIMEZONE
TZID:Europe/London
BEGIN:DAYLIGHT
TZOFFSETFROM:+0000
TZOFFSETTO:+0100
TZNAME:BST
DTSTART:20140330T010000
END:DAYLIGHT
BEGIN:STANDARD
TZOFFSETFROM:+0100
TZOFFSETTO:+0000
TZNAME:GMT
DTSTART:20141026T010000
END:STANDARD
BEGIN:DAYLIGHT
TZOFFSETFROM:+0000
TZOFFSETTO:+0100
TZNAME:BST
DTSTART:20150329T010000
END:DAYLIGHT
BEGIN:STANDARD
TZOFFSETFROM:+0100
TZOFFSETTO:+0000
TZNAME:GMT
DTSTART:20151025T010000
END:STANDARD
BEGIN:DAYLIGHT
TZOFFSETFROM:+0000
TZOFFSETTO:+0100
TZNAME:BST
DTSTART:20160327T010000
END:DAYLIGHT
BEGIN:STANDARD
TZOFFSETFROM:+0100
TZOFFSETTO:+0000
TZNAME:GMT
DTSTART:20161030T010000
END:STANDARD
BEGIN:DAYLIGHT
TZOFFSETFROM:+0000
TZOFFSETTO:+0100
TZNAME:BST
DTSTART:20170326T010000
END:DAYLIGHT
BEGIN:STANDARD
TZOFFSETFROM:+0100
TZOFFSETTO:+0000
TZNAME:GMT
DTSTART:20171029T010000
END:STANDARD
BEGIN:DAYLIGHT
TZOFFSETFROM:+0000
TZOFFSETTO:+0100
TZNAME:BST
DTSTART:20180325T010000
END:DAYLIGHT
BEGIN:STANDARD
TZOFFSETFROM:+0100
TZOFFSETTO:+0000
TZNAME:GMT
DTSTART:20181028T010000
END:STANDARD
BEGIN:DAYLIGHT
TZOFFSETFROM:+0000
TZOFFSETTO:+0100
TZNAME:BST
DTSTART:20190331T010000
END:DAYLIGHT
BEGIN:STANDARD
TZOFFSETFROM:+0100
TZOFFSETTO:+0000
TZNAME:GMT
DTSTART:20191027T010000
END:STANDARD
END:VTIMEZONE
BEGIN:VEVENT
DTSTART;TZID=Europe/London:20181215T190000
DTEND;TZID=Europe/London:20181215T220000
DTSTAMP:20260421T163056
CREATED:20180823T125614Z
LAST-MODIFIED:20180823T125614Z
UID:10000184-1544900400-1544911200@tapa.org.uk
SUMMARY:Taunton Deane Male Voice Choir - Christmas Concert No2 with the New Horizon Singers
DESCRIPTION:Christmas Concert No 2 \nwith The New Horizon Singers
URL:https://tapa.org.uk/event/taunton-deane-male-voice-choir-christmas-concert-no2-with-the-new-horizon-singers/
LOCATION:St Nicholas Parish Church\, Combe St Nicholas\, Combe St Nicolas\, Chard\, Somerset\, TA20 3NE\, United Kingdom
CATEGORIES:Music - Choral
GEO:50.8970758;-2.9951557
X-APPLE-STRUCTURED-LOCATION;VALUE=URI;X-ADDRESS=St Nicholas Parish Church Combe St Nicholas Combe St Nicolas Chard Somerset TA20 3NE United Kingdom;X-APPLE-RADIUS=500;X-TITLE=Combe St Nicolas:geo:-2.9951557,50.8970758
END:VEVENT
BEGIN:VEVENT
DTSTART;TZID=Europe/London:20181208T193000
DTEND;TZID=Europe/London:20181208T213000
DTSTAMP:20260421T163056
CREATED:20180823T125206Z
LAST-MODIFIED:20180823T125206Z
UID:10000183-1544297400-1544304600@tapa.org.uk
SUMMARY:Taunton Deane Male Voice Choir - Christmas Concert No1 with the New Horizon Singers
DESCRIPTION:Christmas Concert No 1 \nwith The New Horizon singers
URL:https://tapa.org.uk/event/taunton-deane-male-voice-choir-christmas-concert-no1-with-the-new-horizon-singers/
CATEGORIES:Music - Choral
END:VEVENT
BEGIN:VEVENT
DTSTART;TZID=Europe/London:20181117T193000
DTEND;TZID=Europe/London:20181117T213000
DTSTAMP:20260421T163056
CREATED:20180823T124816Z
LAST-MODIFIED:20180823T124816Z
UID:10000182-1542483000-1542490200@tapa.org.uk
SUMMARY:Taunton Deane Male Voice Choir - Reminiscence Learning Concert
DESCRIPTION:Reminiscence Learning Concert
URL:https://tapa.org.uk/event/taunton-deane-male-voice-choir-reminiscence-learning-concert/
CATEGORIES:Music - Choral
END:VEVENT
BEGIN:VEVENT
DTSTART;TZID=Europe/London:20181103T190000
DTEND;TZID=Europe/London:20181103T220000
DTSTAMP:20260421T163056
CREATED:20180823T130133Z
LAST-MODIFIED:20180823T130133Z
UID:10000187-1541271600-1541282400@tapa.org.uk
SUMMARY:Taunton Deane Male Voice Choir - Royal Albert Hall Gala Concert
DESCRIPTION:Royal Albert Hall Gala Concert
URL:https://tapa.org.uk/event/taunton-deane-male-voice-choir-royal-albert-hall-gala-concert/
CATEGORIES:Music - Choral,Music - Opera/Operetta,Music - Orchestral
END:VEVENT
BEGIN:VEVENT
DTSTART;TZID=Europe/London:20181027T193000
DTEND;TZID=Europe/London:20181027T213000
DTSTAMP:20260421T163056
CREATED:20180608T111616Z
LAST-MODIFIED:20180619T144831Z
UID:10005911-1540668600-1540675800@tapa.org.uk
SUMMARY:Taunton Deane Male Voice Choir - Armistice Concert
DESCRIPTION:Armistice Concert \nWW1 Armistice Concert in aid of SSAFA in conjunction with RAFA Concert Band and The Taunton Military Wives Choir.
URL:https://tapa.org.uk/event/taunton-deane-male-voice-choir-armistice-concert/
LOCATION:Taunton Minster (St Mary Magdalene Church)\, Church Square\, Taunton\, Somerset\, TA1 1SA\, United Kingdom
CATEGORIES:Music - Choral,Musical theatre
ATTACH;FMTTYPE=image/jpeg:https://tapa.org.uk/wp-content/uploads/2018/06/Armistice-poster-724x1024.jpg
GEO:51.0156693;-3.1012102
X-APPLE-STRUCTURED-LOCATION;VALUE=URI;X-ADDRESS=Taunton Minster (St Mary Magdalene Church) Church Square Taunton Somerset TA1 1SA United Kingdom;X-APPLE-RADIUS=500;X-TITLE=Church Square:geo:-3.1012102,51.0156693
END:VEVENT
BEGIN:VEVENT
DTSTART;TZID=Europe/London:20181006T193000
DTEND;TZID=Europe/London:20181006T213000
DTSTAMP:20260421T163056
CREATED:20180823T124422Z
LAST-MODIFIED:20180823T124422Z
UID:10000181-1538854200-1538861400@tapa.org.uk
SUMMARY:Taunton Deane Male Voice Choir
DESCRIPTION:St Andrews Concert
URL:https://tapa.org.uk/event/taunton-deane-male-voice-choir-2/
LOCATION:St Andrews Church\, Taunton\, Greenway ave \, Taunton\, Somerset\, TA2 6HU\, United Kingdom
CATEGORIES:Music - Choral
ATTACH;FMTTYPE=image/jpeg:https://tapa.org.uk/wp-content/uploads/2018/08/St-Andrews-2018-P.jpg
END:VEVENT
BEGIN:VEVENT
DTSTART;TZID=Europe/London:20180504T190000
DTEND;TZID=Europe/London:20180504T220000
DTSTAMP:20260421T163056
CREATED:20180508T130034Z
LAST-MODIFIED:20180508T130034Z
UID:10004756-1525460400-1525471200@tapa.org.uk
SUMMARY:Taunton Deane Male Voice Choir
DESCRIPTION:Annual Concert by Taunton Deane Male Voice Choir
URL:https://tapa.org.uk/event/taunton-deane-male-voice-choir/
LOCATION:Tacchi Morris Arts Center\, School Rd\, Monkton Heathfield\, Taunton\, Somerset\, TA2 8PD\, United Kingdom
CATEGORIES:Music - Choral,Musical theatre
ATTACH;FMTTYPE=image/jpeg:https://tapa.org.uk/wp-content/uploads/2018/05/Annual-Concert-Poster-Landscape.jpg
GEO:51.0350216;-3.0629975
X-APPLE-STRUCTURED-LOCATION;VALUE=URI;X-ADDRESS=Tacchi Morris Arts Center School Rd Monkton Heathfield Taunton Somerset TA2 8PD United Kingdom;X-APPLE-RADIUS=500;X-TITLE=School Rd\, Monkton Heathfield:geo:-3.0629975,51.0350216
END:VEVENT
BEGIN:VEVENT
DTSTART;TZID=Europe/London:20180324T193000
DTEND;TZID=Europe/London:20180324T213000
DTSTAMP:20260421T163056
CREATED:20180318T134314Z
LAST-MODIFIED:20180318T134314Z
UID:10000167-1521919800-1521927000@tapa.org.uk
SUMMARY:Taunton Deane Male Voice Choir - Mayor’s Charity Concert with Launceston MVC
DESCRIPTION:The Worshipful Mayor of Taunton Deane\, Councillor Hazel Prior-Sankey invites you to an exhilarating evening of voice and song to please all musical tastes as these excellent choirs unite in aid of the Mayor’s charities – Hestercombe Gardens and Stand Against Violence.
URL:https://tapa.org.uk/event/taunton-deane-male-voice-choir-mayors-charity-concert-with-launceston-mvc/
LOCATION:United Kingdom
CATEGORIES:Music - Choral
ATTACH;FMTTYPE=image/jpeg:https://tapa.org.uk/wp-content/uploads/2018/03/Poster-Original-JPG.jpg
END:VEVENT
BEGIN:VEVENT
DTSTART;TZID=Europe/London:20171214T193000
DTEND;TZID=Europe/London:20171214T213000
DTSTAMP:20260421T163056
CREATED:20171031T170928Z
LAST-MODIFIED:20171031T171231Z
UID:10003180-1513279800-1513287000@tapa.org.uk
SUMMARY:Taunton Deane Male Voice Choir - A Harmony Of Song
DESCRIPTION:At the Baptist Church in Taunton: a Christmas Concert \nThe New Horizon Singers join up with the Taunton Deane Male Voice Choir in this most joyous concert of Singing and Laughter. \nThe concert is in aid of the Musgrove Scanner Appeal and should be a great fun evening for all the family.
URL:https://tapa.org.uk/event/taunton-deane-male-voice-choir-a-harmony-of-song/
LOCATION:Taunton Baptist Church\, Silver Street\, Taunton\, Somerset\, TA1 3DH\, United Kingdom
CATEGORIES:Music - Choral
ATTACH;FMTTYPE=image/jpeg:https://tapa.org.uk/wp-content/uploads/2017/10/Poster-Started-JPG.jpg
GEO:51.0143439;-3.0969988
X-APPLE-STRUCTURED-LOCATION;VALUE=URI;X-ADDRESS=Taunton Baptist Church Silver Street Taunton Somerset TA1 3DH United Kingdom;X-APPLE-RADIUS=500;X-TITLE=Silver Street:geo:-3.0969988,51.0143439
END:VEVENT
BEGIN:VEVENT
DTSTART;TZID=Europe/London:20170617T193000
DTEND;TZID=Europe/London:20170617T213000
DTSTAMP:20260421T163056
CREATED:20170530T204457Z
LAST-MODIFIED:20170530T204457Z
UID:10000128-1497727800-1497735000@tapa.org.uk
SUMMARY:Summer Song
DESCRIPTION:Fresh from their successful appearance at the Cornwall International Festival\, Taunton Deane Male Voice Choir presents another great concert performing an eclectic mix of male voice favourites from the shows\, musicals\, pop classics\, spirituals and classical items.  Delighted to share the stage with them is the very popular and accomplished Welsh baritone Arwel Huw Morgan (Welsh National Opera\, English National Opera).  A memorable evening awaits. \nTickets from 01823 414141 or online at  www.tacchi-morris.com
URL:https://tapa.org.uk/event/summer-song/
LOCATION:United Kingdom
CATEGORIES:Music - Choral
ATTACH;FMTTYPE=image/jpeg:https://tapa.org.uk/wp-content/uploads/2017/05/Arwel-Huw-Morgan.jpg
END:VEVENT
BEGIN:VEVENT
DTSTART;TZID=Europe/London:20161119T193000
DTEND;TZID=Europe/London:20161119T213000
DTSTAMP:20260421T163056
CREATED:20161004T125821Z
LAST-MODIFIED:20161004T125929Z
UID:10003094-1479583800-1479591000@tapa.org.uk
SUMMARY:Taunton Deane Male Voice Choir
DESCRIPTION:Red Cross 2 Choir Concert \nFeaturing Wycombe Orpheus and Taunton Deane Male Choirs supported by talented soloist Hannah Deason-Barrow
URL:https://tapa.org.uk/event/taunton-deane-male-choir/
LOCATION:St James’ Church\, Taunton\, St James Street\, Taunton\, Somerset\, TA1 1JS\, United Kingdom
CATEGORIES:Music - Choral
ATTACH;FMTTYPE=image/jpeg:https://tapa.org.uk/wp-content/uploads/2016/10/hannah.jpg
GEO:51.01739;-3.1018619
X-APPLE-STRUCTURED-LOCATION;VALUE=URI;X-ADDRESS=St James’ Church Taunton St James Street Taunton Somerset TA1 1JS United Kingdom;X-APPLE-RADIUS=500;X-TITLE=St James Street:geo:-3.1018619,51.01739
END:VEVENT
BEGIN:VEVENT
DTSTART;TZID=Europe/London:20160611T193000
DTEND;TZID=Europe/London:20160611T213000
DTSTAMP:20260421T163056
CREATED:20160519T082916Z
LAST-MODIFIED:20160519T083030Z
UID:10003045-1465673400-1465680600@tapa.org.uk
SUMMARY:Taunton Deane Male Voice Choir - CELEBRATE 70
DESCRIPTION:Going from strength to strength\, celebrating 70 years of exceptional entertainment – the unique sound which only a male voice choir can produce.  Special guest soloist Naomi Harvey – English National Opera\, Dublin National Concert Hall\, European Chamber Opera\, Barbican Hall and more.
URL:https://tapa.org.uk/event/taunton-deane-male-voice-choir-celebrate-70/
LOCATION:United Kingdom
CATEGORIES:Music - Choral
ATTACH;FMTTYPE=image/gif:https://tapa.org.uk/wp-content/uploads/2016/05/Naomi-Harvey.gif
END:VEVENT
BEGIN:VEVENT
DTSTART;TZID=Europe/London:20160319T193000
DTEND;TZID=Europe/London:20160319T213000
DTSTAMP:20260421T163056
CREATED:20151219T090628Z
LAST-MODIFIED:20160220T171809Z
UID:10001621-1458415800-1458423000@tapa.org.uk
SUMMARY:Taunton Deane Male Voice Choir - Mayor's Patronage Concert
DESCRIPTION:The Mayor of Taunton Deane\, Marcia Hill\, will be present for this concert and it will raise funds for the Mayor’s charities of the year which are Taunton Foodbank and The Special Care Baby Unit at Musgrove Park Hospital.  Besides the impressive sound of Taunton’s male voice choir there will also be additional musical participation of Cheddar Male Voice Choir and Soloist Hannah Deason-Barrow.  All in all\, expect a very high standard of concert.
URL:https://tapa.org.uk/event/taunton-deane-male-voice-choir-mayors-patronage-concert/
LOCATION:St James’ Church\, Taunton\, St James Street\, Taunton\, Somerset\, TA1 1JS\, United Kingdom
CATEGORIES:Music - Choral
GEO:51.01739;-3.1018619
X-APPLE-STRUCTURED-LOCATION;VALUE=URI;X-ADDRESS=St James’ Church Taunton St James Street Taunton Somerset TA1 1JS United Kingdom;X-APPLE-RADIUS=500;X-TITLE=St James Street:geo:-3.1018619,51.01739
END:VEVENT
BEGIN:VEVENT
DTSTART;TZID=Europe/London:20160220T193000
DTEND;TZID=Europe/London:20160220T213000
DTSTAMP:20260421T163056
CREATED:20151219T090133Z
LAST-MODIFIED:20151219T091948Z
UID:10000203-1455996600-1456003800@tapa.org.uk
SUMMARY:Taunton Deane Male Voice Choir perorms at Creech St Michael Village Hall
DESCRIPTION:An eclectic mix of music performed by the west’s premier male voice choir.  Includes famous hymns\, songs from shows\, classic arrangements of well known pieces\, ballads etc.
URL:https://tapa.org.uk/event/taunton-deane-male-voice-choir-perorms-at-creech-st-michael-village-hall/
LOCATION:Creech St Michael Village Hall\, Creech St Michael\, Taunton\, Somerset\, TA3 5QQ  \, United Kingdom
CATEGORIES:Music - Choral
ATTACH;FMTTYPE=image/jpeg:https://tapa.org.uk/wp-content/uploads/2015/12/TDMVC-copy-e1453029688735.jpg
GEO:51.0256202;-3.0390439
X-APPLE-STRUCTURED-LOCATION;VALUE=URI;X-ADDRESS=Creech St Michael Village Hall Creech St Michael Taunton Somerset TA3 5QQ   United Kingdom;X-APPLE-RADIUS=500;X-TITLE=Creech St Michael:geo:-3.0390439,51.0256202
END:VEVENT
BEGIN:VEVENT
DTSTART;TZID=Europe/London:20151121T191500
DTEND;TZID=Europe/London:20151121T211500
DTSTAMP:20260421T163056
CREATED:20150914T141412Z
LAST-MODIFIED:20150914T141617Z
UID:10000041-1448133300-1448140500@tapa.org.uk
SUMMARY:Two Choir Concert for St Margarets Concert
DESCRIPTION:Taunton & Reading Male Voice Choirs are joining force to raise funds for St Margaret’s Hospice.  Internationally recognised Tenor Cameron Roll will feature.
URL:https://tapa.org.uk/event/two-choir-concert-for-st-margarets-concert/
LOCATION:Taunton Minster (St Mary Magdalene Church)\, Church Square\, Taunton\, Somerset\, TA1 1SA\, United Kingdom
CATEGORIES:Music - Choral
ATTACH;FMTTYPE=image/jpeg:https://tapa.org.uk/wp-content/uploads/2015/09/TDMVC-e1453030233837.jpg
GEO:51.0156693;-3.1012102
X-APPLE-STRUCTURED-LOCATION;VALUE=URI;X-ADDRESS=Taunton Minster (St Mary Magdalene Church) Church Square Taunton Somerset TA1 1SA United Kingdom;X-APPLE-RADIUS=500;X-TITLE=Church Square:geo:-3.1012102,51.0156693
END:VEVENT
BEGIN:VEVENT
DTSTART;TZID=Europe/London:20151003T193000
DTEND;TZID=Europe/London:20151003T213000
DTSTAMP:20260421T163056
CREATED:20150914T140544Z
LAST-MODIFIED:20150914T142058Z
UID:10000173-1443900600-1443907800@tapa.org.uk
SUMMARY:Taunton Deane male Voice Choir – St Michael’s Church\, Milverton with Bishops Lydeard Ladies Choir
DESCRIPTION:In aid of St Michael’s Church & The Victoria Rooms.   Saturday 3rd October 2015 – 7.30 pm at St Michael’s Church\, Milverton \nTickets £10 includes a buffet supper. Bar available. Tickets from 01823 400609 or Milverton Stores.
URL:https://tapa.org.uk/event/taunton-deane-male-voice-choir-st-michaels-church-milverton-with-bishops-lydeard-ladies-choir/
CATEGORIES:Music - Choral
ATTACH;FMTTYPE=image/jpeg:https://tapa.org.uk/wp-content/uploads/2015/09/dCjEhkPsNqv37U5jDqQDroH6ZDCYQDKwf6K6i3TatW81.jpg
END:VEVENT
END:VCALENDAR