BEGIN:VCALENDAR
VERSION:2.0
PRODID:-//Taunton Association of Performing Arts - ECPv6.15.20//NONSGML v1.0//EN
CALSCALE:GREGORIAN
METHOD:PUBLISH
X-ORIGINAL-URL:https://tapa.org.uk
X-WR-CALDESC:Events for Taunton Association of Performing Arts
REFRESH-INTERVAL;VALUE=DURATION:PT1H
X-Robots-Tag:noindex
X-PUBLISHED-TTL:PT1H
BEGIN:VTIMEZONE
TZID:Europe/London
BEGIN:DAYLIGHT
TZOFFSETFROM:+0000
TZOFFSETTO:+0100
TZNAME:BST
DTSTART:20250330T010000
END:DAYLIGHT
BEGIN:STANDARD
TZOFFSETFROM:+0100
TZOFFSETTO:+0000
TZNAME:GMT
DTSTART:20251026T010000
END:STANDARD
BEGIN:DAYLIGHT
TZOFFSETFROM:+0000
TZOFFSETTO:+0100
TZNAME:BST
DTSTART:20260329T010000
END:DAYLIGHT
BEGIN:STANDARD
TZOFFSETFROM:+0100
TZOFFSETTO:+0000
TZNAME:GMT
DTSTART:20261025T010000
END:STANDARD
BEGIN:DAYLIGHT
TZOFFSETFROM:+0000
TZOFFSETTO:+0100
TZNAME:BST
DTSTART:20270328T010000
END:DAYLIGHT
BEGIN:STANDARD
TZOFFSETFROM:+0100
TZOFFSETTO:+0000
TZNAME:GMT
DTSTART:20271031T010000
END:STANDARD
END:VTIMEZONE
BEGIN:VEVENT
DTSTART;TZID=Europe/London:20260710T120000
DTEND;TZID=Europe/London:20260710T140000
DTSTAMP:20260419T213543
CREATED:20260313T195704Z
LAST-MODIFIED:20260313T195704Z
UID:10013420-1783684800-1783692000@tapa.org.uk
SUMMARY:Lunchtime Concert - Winners and Runners Up from Taunton Festival of The Arts Singing Competitions
DESCRIPTION:Some of the outstanding winners and runners-up from the Taunton Festival of The Arts 2025 and 2026 Singing Contest Competitions  will unite to present a programme of their competition entries and more. The competition classes are open for ages from 8 to 18. \nRetiring Collection in aid of  Taunton Festival of the Arts and St. John’s Church.  Doors open 12.00pm\, Concert will start at 12.45pm.  Drinks will be available before the concert.
URL:https://tapa.org.uk/event/lunchtime-concert-winners-and-runners-up-from-taunton-festival-of-the-arts-singing-competitions/
LOCATION:St John the Evangelist Church\, Taunton\, Park Street\, Taunton\, Somerset\, TA1 4DG\, United Kingdom
CATEGORIES:Music - Opera/Operetta,Musical theatre
ATTACH;FMTTYPE=image/jpeg:https://tapa.org.uk/wp-content/uploads/2026/03/20261007TFS.jpg
ORGANIZER;CN="St John the Evangelist Church%2C Park Street%2C Taunton":MAILTO:french.michaelfrench@gmail.com
GEO:51.0133012;-3.1091756
X-APPLE-STRUCTURED-LOCATION;VALUE=URI;X-ADDRESS=St John the Evangelist Church Taunton Park Street Taunton Somerset TA1 4DG United Kingdom;X-APPLE-RADIUS=500;X-TITLE=Park Street:geo:-3.1091756,51.0133012
END:VEVENT
END:VCALENDAR