BEGIN:VCALENDAR
VERSION:2.0
PRODID:-//Taunton Association of Performing Arts - ECPv6.15.20//NONSGML v1.0//EN
CALSCALE:GREGORIAN
METHOD:PUBLISH
X-ORIGINAL-URL:https://tapa.org.uk
X-WR-CALDESC:Events for Taunton Association of Performing Arts
REFRESH-INTERVAL;VALUE=DURATION:PT1H
X-Robots-Tag:noindex
X-PUBLISHED-TTL:PT1H
BEGIN:VTIMEZONE
TZID:Europe/London
BEGIN:DAYLIGHT
TZOFFSETFROM:+0000
TZOFFSETTO:+0100
TZNAME:BST
DTSTART:20250330T010000
END:DAYLIGHT
BEGIN:STANDARD
TZOFFSETFROM:+0100
TZOFFSETTO:+0000
TZNAME:GMT
DTSTART:20251026T010000
END:STANDARD
BEGIN:DAYLIGHT
TZOFFSETFROM:+0000
TZOFFSETTO:+0100
TZNAME:BST
DTSTART:20260329T010000
END:DAYLIGHT
BEGIN:STANDARD
TZOFFSETFROM:+0100
TZOFFSETTO:+0000
TZNAME:GMT
DTSTART:20261025T010000
END:STANDARD
BEGIN:DAYLIGHT
TZOFFSETFROM:+0000
TZOFFSETTO:+0100
TZNAME:BST
DTSTART:20270328T010000
END:DAYLIGHT
BEGIN:STANDARD
TZOFFSETFROM:+0100
TZOFFSETTO:+0000
TZNAME:GMT
DTSTART:20271031T010000
END:STANDARD
END:VTIMEZONE
BEGIN:VEVENT
DTSTART;TZID=Europe/London:20260508T120000
DTEND;TZID=Europe/London:20260508T140000
DTSTAMP:20260419T181747
CREATED:20260313T193816Z
LAST-MODIFIED:20260313T212549Z
UID:10013418-1778241600-1778248800@tapa.org.uk
SUMMARY:Lunchtime Concert – Songs From The Shows
DESCRIPTION:Eric Tebbett and Katie Gange\nAndrew Carter Accompanist \nMaking their debut at these concerts\, Eric and Katie will  keep you enchanted with something for everyone\, in a programme selected from Les Miserables\, Phantom of the Opera\, Ivor Novello\, Flanders and Swann and Gilbert and Sullivan. \nCollection in aid of Ron Tickner Educational Trust and St. John’s Church. Doors open at 12.00pm\, Concert starts at 12.45pm.  Drinks available before the concert.
URL:https://tapa.org.uk/event/lunchtime-concert-songs-from-the-shows/
LOCATION:St John the Evangelist Church\, Taunton\, Park Street\, Taunton\, Somerset\, TA1 4DG\, United Kingdom
CATEGORIES:Musical theatre
ATTACH;FMTTYPE=image/jpeg:https://tapa.org.uk/wp-content/uploads/2026/03/202680805ETKGSfromShows.jpg
ORGANIZER;CN="St John the Evangelist Church%2C Park Street%2C Taunton":MAILTO:french.michaelfrench@gmail.com
GEO:51.0133012;-3.1091756
X-APPLE-STRUCTURED-LOCATION;VALUE=URI;X-ADDRESS=St John the Evangelist Church Taunton Park Street Taunton Somerset TA1 4DG United Kingdom;X-APPLE-RADIUS=500;X-TITLE=Park Street:geo:-3.1091756,51.0133012
END:VEVENT
END:VCALENDAR