BEGIN:VCALENDAR
VERSION:2.0
PRODID:-//Taunton Association of Performing Arts - ECPv6.15.20//NONSGML v1.0//EN
CALSCALE:GREGORIAN
METHOD:PUBLISH
X-ORIGINAL-URL:https://tapa.org.uk
X-WR-CALDESC:Events for Taunton Association of Performing Arts
REFRESH-INTERVAL;VALUE=DURATION:PT1H
X-Robots-Tag:noindex
X-PUBLISHED-TTL:PT1H
BEGIN:VTIMEZONE
TZID:Europe/London
BEGIN:DAYLIGHT
TZOFFSETFROM:+0000
TZOFFSETTO:+0100
TZNAME:BST
DTSTART:20250330T010000
END:DAYLIGHT
BEGIN:STANDARD
TZOFFSETFROM:+0100
TZOFFSETTO:+0000
TZNAME:GMT
DTSTART:20251026T010000
END:STANDARD
BEGIN:DAYLIGHT
TZOFFSETFROM:+0000
TZOFFSETTO:+0100
TZNAME:BST
DTSTART:20260329T010000
END:DAYLIGHT
BEGIN:STANDARD
TZOFFSETFROM:+0100
TZOFFSETTO:+0000
TZNAME:GMT
DTSTART:20261025T010000
END:STANDARD
BEGIN:DAYLIGHT
TZOFFSETFROM:+0000
TZOFFSETTO:+0100
TZNAME:BST
DTSTART:20270328T010000
END:DAYLIGHT
BEGIN:STANDARD
TZOFFSETFROM:+0100
TZOFFSETTO:+0000
TZNAME:GMT
DTSTART:20271031T010000
END:STANDARD
END:VTIMEZONE
BEGIN:VEVENT
DTSTART;TZID=Europe/London:20260503T150000
DTEND;TZID=Europe/London:20260503T170000
DTSTAMP:20260423T110054
CREATED:20260325T153242Z
LAST-MODIFIED:20260325T153242Z
UID:10013436-1777820400-1777827600@tapa.org.uk
SUMMARY:Piano Recital - Marie Pascale Talbot Hitier
DESCRIPTION:Marie-Pascale first studied at the Conservatoire of Caen and then at the Conservatoire National Supérieur of Music and Dance in Paris under Yvonne Loriod-Messiaen and Jean Hubeau\, before completing her studies at the Conservatoire Royal in Brussels and training as a teacher at the Ecole Normale de Musique in Paris.  She was an award winner in the European Community music competition in 1989.  Her professional career is divided between teaching piano and chamber music\, and being a concert pianist as soloist\, chamber musician\, accompanist and vocal coach.  In more recent years\, her concerts have included Twenty Contemplations on the Infant Jesus by Messiaen\, Mozart concertos\, Brahms quintets\, works by Schumann\, Dvorak\, Vierne and Schubert’s Winterreise for voice and piano.\nThe afternoon will finish with the serving of Tea and Cakes.
URL:https://tapa.org.uk/event/piano-recital-marie-pascale-talbot-hitier/
LOCATION:St John the Evangelist Church\, Taunton\, Park Street\, Taunton\, Somerset\, TA1 4DG\, United Kingdom
CATEGORIES:Music - Recital
ATTACH;FMTTYPE=image/jpeg:https://tapa.org.uk/wp-content/uploads/2026/03/2026Marie-Pscale-1.jpg
ORGANIZER;CN="St John the Evangelist Church%2C Park Street%2C Taunton":MAILTO:french.michaelfrench@gmail.com
GEO:51.0133012;-3.1091756
X-APPLE-STRUCTURED-LOCATION;VALUE=URI;X-ADDRESS=St John the Evangelist Church Taunton Park Street Taunton Somerset TA1 4DG United Kingdom;X-APPLE-RADIUS=500;X-TITLE=Park Street:geo:-3.1091756,51.0133012
END:VEVENT
BEGIN:VEVENT
DTSTART;TZID=Europe/London:20260521T193000
DTEND;TZID=Europe/London:20260521T210000
DTSTAMP:20260423T110054
CREATED:20260409T110200Z
LAST-MODIFIED:20260409T110200Z
UID:10013442-1779391800-1779397200@tapa.org.uk
SUMMARY:Blackdowns Early Music Projects – Before the Guillotine
DESCRIPTION:BEMP have invited Dialogue Viols to present a programme celebrating\, as its title suggests\, the music of pre-Revolutionary France. In it\, the audience will be introduced to the ‘laptop’ member of the viol family\,  the pardessus de viole or its cousin\, the quinton. These will be played by Jacqui Robertson-Wade and Peter Wendland\, supported by Ibi Aziz on viol and Lynda Sayce\, theorbo.\nThe programme includes music by French and Italian composers including Marais\, Corelli\, Hotteterre
URL:https://tapa.org.uk/event/blackdowns-early-music-projects-before-the-guillotine/
LOCATION:All Saints Church\, Culmstock\, Fore Street\,\, CULMSTOCK\, Devon\, EX15 3JD\, United Kingdom
CATEGORIES:Music - Recital
ATTACH;FMTTYPE=image/jpeg:https://tapa.org.uk/wp-content/uploads/2026/04/2026-05-21-web-p1-Guillotine.jpg
GEO:50.9140223;-3.2794674
X-APPLE-STRUCTURED-LOCATION;VALUE=URI;X-ADDRESS=All Saints Church Culmstock Fore Street CULMSTOCK Devon EX15 3JD United Kingdom;X-APPLE-RADIUS=500;X-TITLE=Fore Street\,:geo:-3.2794674,50.9140223
END:VEVENT
END:VCALENDAR