BEGIN:VCALENDAR
VERSION:2.0
PRODID:-//Taunton Association of Performing Arts - ECPv6.15.20//NONSGML v1.0//EN
CALSCALE:GREGORIAN
METHOD:PUBLISH
X-WR-CALNAME:Taunton Association of Performing Arts
X-ORIGINAL-URL:https://tapa.org.uk
X-WR-CALDESC:Events for Taunton Association of Performing Arts
REFRESH-INTERVAL;VALUE=DURATION:PT1H
X-Robots-Tag:noindex
X-PUBLISHED-TTL:PT1H
BEGIN:VTIMEZONE
TZID:Europe/London
BEGIN:DAYLIGHT
TZOFFSETFROM:+0000
TZOFFSETTO:+0100
TZNAME:BST
DTSTART:20250330T010000
END:DAYLIGHT
BEGIN:STANDARD
TZOFFSETFROM:+0100
TZOFFSETTO:+0000
TZNAME:GMT
DTSTART:20251026T010000
END:STANDARD
BEGIN:DAYLIGHT
TZOFFSETFROM:+0000
TZOFFSETTO:+0100
TZNAME:BST
DTSTART:20260329T010000
END:DAYLIGHT
BEGIN:STANDARD
TZOFFSETFROM:+0100
TZOFFSETTO:+0000
TZNAME:GMT
DTSTART:20261025T010000
END:STANDARD
BEGIN:DAYLIGHT
TZOFFSETFROM:+0000
TZOFFSETTO:+0100
TZNAME:BST
DTSTART:20270328T010000
END:DAYLIGHT
BEGIN:STANDARD
TZOFFSETFROM:+0100
TZOFFSETTO:+0000
TZNAME:GMT
DTSTART:20271031T010000
END:STANDARD
END:VTIMEZONE
BEGIN:VEVENT
DTSTART;TZID=Europe/London:20260208T150000
DTEND;TZID=Europe/London:20260208T170000
DTSTAMP:20260421T121232
CREATED:20260128T142815Z
LAST-MODIFIED:20260128T142819Z
UID:10013385-1770562800-1770570000@tapa.org.uk
SUMMARY:LISZT in TAUNTON presents:
DESCRIPTION:Élizabeth PION\n         Solo Piano Recital by\n        Canadian Star pianist\nThe first UK performance during\nher European 2026 tour by Canada’s multi award winning star         pianist\n                 Works by :\n                CHOPIN\n    Hélène de MONTGEROULT\n        LISZT – SCHUBERT
URL:https://tapa.org.uk/event/liszt-in-taunton-presents/
LOCATION:United Reform Church\, Taunton\, 18 Paul St\, Taunton\, Somerset\, TA1 3PF\, United Kingdom
CATEGORIES:Music - Recital
ATTACH;FMTTYPE=image/jpeg:https://tapa.org.uk/wp-content/uploads/2026/01/Untitled-100-1.jpeg
END:VEVENT
BEGIN:VEVENT
DTSTART;TZID=Europe/London:20260215T160000
DTEND;TZID=Europe/London:20260215T180000
DTSTAMP:20260421T121232
CREATED:20250418T112334Z
LAST-MODIFIED:20260103T180437Z
UID:10013340-1771171200-1771178400@tapa.org.uk
SUMMARY:Celebrating Palestrina
DESCRIPTION:The Line of Beauty\nCelebrating Palestrina and his impact on 500 years of choral composition \nGP Palestrina – Missa Papa Marcelli\nThomas Tallis – Loquebantur Variis Linguis\nGiacomo Carissimi – Plorate filii Israel\nAntonio Caldara – Crucifixus a 16 voci\nJohannes Brahms – Geistliches Lied\nOla Gjeilo – Ubi Caritas\nArvo Part – The Deer’s Cry\nCaroline Shaw – And the Swallow
URL:https://tapa.org.uk/event/celebrating-palestrina/
LOCATION:Kings College\, Taunton\, TauntonSouth Road\, TA1 3LA\, United Kingdom
CATEGORIES:Ecclesiastical,Music - Choral,Music - Recital
ATTACH;FMTTYPE=image/jpeg:https://tapa.org.uk/wp-content/uploads/2025/04/Giovanni_Pier_Luigi_da_Palestrina_Archenzo_-_Wikimedia_Commons.jpeg
GEO:51.0115841;-3.0948281
END:VEVENT
END:VCALENDAR