BEGIN:VCALENDAR
VERSION:2.0
PRODID:-//Taunton Association of Performing Arts - ECPv6.15.20//NONSGML v1.0//EN
CALSCALE:GREGORIAN
METHOD:PUBLISH
X-WR-CALNAME:Taunton Association of Performing Arts
X-ORIGINAL-URL:https://tapa.org.uk
X-WR-CALDESC:Events for Taunton Association of Performing Arts
REFRESH-INTERVAL;VALUE=DURATION:PT1H
X-Robots-Tag:noindex
X-PUBLISHED-TTL:PT1H
BEGIN:VTIMEZONE
TZID:Europe/London
BEGIN:DAYLIGHT
TZOFFSETFROM:+0000
TZOFFSETTO:+0100
TZNAME:BST
DTSTART:20240331T010000
END:DAYLIGHT
BEGIN:STANDARD
TZOFFSETFROM:+0100
TZOFFSETTO:+0000
TZNAME:GMT
DTSTART:20241027T010000
END:STANDARD
BEGIN:DAYLIGHT
TZOFFSETFROM:+0000
TZOFFSETTO:+0100
TZNAME:BST
DTSTART:20250330T010000
END:DAYLIGHT
BEGIN:STANDARD
TZOFFSETFROM:+0100
TZOFFSETTO:+0000
TZNAME:GMT
DTSTART:20251026T010000
END:STANDARD
BEGIN:DAYLIGHT
TZOFFSETFROM:+0000
TZOFFSETTO:+0100
TZNAME:BST
DTSTART:20260329T010000
END:DAYLIGHT
BEGIN:STANDARD
TZOFFSETFROM:+0100
TZOFFSETTO:+0000
TZNAME:GMT
DTSTART:20261025T010000
END:STANDARD
END:VTIMEZONE
BEGIN:VEVENT
DTSTART;TZID=Europe/London:20250308T093000
DTEND;TZID=Europe/London:20250308T170000
DTSTAMP:20260423T185238
CREATED:20240922T162458Z
LAST-MODIFIED:20240922T164806Z
UID:10013281-1741426200-1741453200@tapa.org.uk
SUMMARY:Taunton Junior Young Singer Competition
DESCRIPTION:Taunton Junior Young Singer is open to any singer (previous winners may enter as long as they have only won once before) resident\, or attending school\, within a 50-mile radius of Taunton and aged between 9 and 13 on 1st September 2024.  \nEntrants should be Grade 4 standard or above – the teacher’s recommendation is sufficient if no exams have been taken.  \nClosing date:  TBC
URL:https://tapa.org.uk/event/taunton-junior-young-singer-competition-2/
LOCATION:Temple Methodist Church\, Taunton\, Upper High Street Taunton\, Taunton\, Somerset\, TA1 3PY\, United Kingdom
CATEGORIES:Music - Recital
ATTACH;FMTTYPE=image/png:https://tapa.org.uk/wp-content/uploads/2024/09/grey-logo-1.png
GEO:51.0118038;-3.1041682
X-APPLE-STRUCTURED-LOCATION;VALUE=URI;X-ADDRESS=Temple Methodist Church Taunton Upper High Street Taunton Taunton Somerset TA1 3PY United Kingdom;X-APPLE-RADIUS=500;X-TITLE=Upper High Street Taunton:geo:-3.1041682,51.0118038
END:VEVENT
BEGIN:VEVENT
DTSTART;TZID=Europe/London:20250309T093000
DTEND;TZID=Europe/London:20250309T170000
DTSTAMP:20260423T185238
CREATED:20240922T163159Z
LAST-MODIFIED:20240922T164956Z
UID:10013282-1741512600-1741539600@tapa.org.uk
SUMMARY:Taunton Young Singer/ Young Music Theatre Singer Competition
DESCRIPTION:This competition for young singers has been set up by the festival in response to the ever-growing number of entries in the Music Festival. It was also felt that singers should have their own competition and not be judged alongside their instrumental contemporaries as in past Taunton Young Musicians competitions.  \nCompetitors are invited to perform a programme from different periods and genres\, up to a maximum of twelve minutes. Movement will be permitted\, if appropriate\, but not costumes or props.
URL:https://tapa.org.uk/event/taunton-young-singer-young-music-theatre-singer-competition/
LOCATION:Taunton School\, Staplegrove Road\, Taunton\, Somerset\, TA2 6AD\, United Kingdom
CATEGORIES:Music - Recital
GEO:51.0255639;-3.1181517
X-APPLE-STRUCTURED-LOCATION;VALUE=URI;X-ADDRESS=Taunton School Staplegrove Road Taunton Somerset TA2 6AD United Kingdom;X-APPLE-RADIUS=500;X-TITLE=Staplegrove Road:geo:-3.1181517,51.0255639
END:VEVENT
BEGIN:VEVENT
DTSTART;TZID=Europe/London:20250316T093000
DTEND;TZID=Europe/London:20250316T170000
DTSTAMP:20260423T185238
CREATED:20240922T163516Z
LAST-MODIFIED:20240922T165126Z
UID:10013283-1742117400-1742144400@tapa.org.uk
SUMMARY:Taunton Young Musician/ Junior Young Musician Competition
DESCRIPTION:The Trustees of the Festival have established a fund\, designated to provide prizes for young musicians who have demonstrated outstanding musical ability. Run on competitive lines\, the competition aims to assist and encourage musical excellence amongst students living in the Taunton area.
URL:https://tapa.org.uk/event/taunton-young-musician-junior-young-musician-competition/
LOCATION:Kings College\, Taunton\, TauntonSouth Road\, TA1 3LA\, United Kingdom
CATEGORIES:Music - Recital
GEO:51.0115841;-3.0948281
END:VEVENT
END:VCALENDAR