BEGIN:VCALENDAR
VERSION:2.0
PRODID:-//Taunton Association of Performing Arts - ECPv6.15.20//NONSGML v1.0//EN
CALSCALE:GREGORIAN
METHOD:PUBLISH
X-ORIGINAL-URL:https://tapa.org.uk
X-WR-CALDESC:Events for Taunton Association of Performing Arts
REFRESH-INTERVAL;VALUE=DURATION:PT1H
X-Robots-Tag:noindex
X-PUBLISHED-TTL:PT1H
BEGIN:VTIMEZONE
TZID:Europe/London
BEGIN:DAYLIGHT
TZOFFSETFROM:+0000
TZOFFSETTO:+0100
TZNAME:BST
DTSTART:20230326T010000
END:DAYLIGHT
BEGIN:STANDARD
TZOFFSETFROM:+0100
TZOFFSETTO:+0000
TZNAME:GMT
DTSTART:20231029T010000
END:STANDARD
BEGIN:DAYLIGHT
TZOFFSETFROM:+0000
TZOFFSETTO:+0100
TZNAME:BST
DTSTART:20240331T010000
END:DAYLIGHT
BEGIN:STANDARD
TZOFFSETFROM:+0100
TZOFFSETTO:+0000
TZNAME:GMT
DTSTART:20241027T010000
END:STANDARD
BEGIN:DAYLIGHT
TZOFFSETFROM:+0000
TZOFFSETTO:+0100
TZNAME:BST
DTSTART:20250330T010000
END:DAYLIGHT
BEGIN:STANDARD
TZOFFSETFROM:+0100
TZOFFSETTO:+0000
TZNAME:GMT
DTSTART:20251026T010000
END:STANDARD
END:VTIMEZONE
BEGIN:VEVENT
DTSTART;TZID=Europe/London:20241103T150000
DTEND;TZID=Europe/London:20241103T170000
DTSTAMP:20260424T010656
CREATED:20240922T133221Z
LAST-MODIFIED:20241031T095246Z
UID:10013277-1730646000-1730653200@tapa.org.uk
SUMMARY:Piano Recital – Stanislav Yovanovitch
DESCRIPTION:Relatively new resident to Taunton\,  Stanislav Yovanovitch has kindly agreed to give a recital of some of his favourite music prior to his visit to China to give the same perforation.  Included in the programme are pieces by Chopin\, Debussy\, Liszt\, Rachmaninov\, Ravel and Scriabin.  Mr Yovaonvich has had an amazing career stretching across the globe and is guaranteed to keep his audience entertained during the afternoon.  Read more about the adventures throughout the life of the fascinating gentleman on his website yovagerlanegends.com and mark the date in your diary to be sure not to miss this exciting recital. \nTea and Cakes will be served after the performance to conclude the afternoon.  A retiring collection will be taken to defray costs and for the benefit of St John’s Church\,
URL:https://tapa.org.uk/event/piano-recital-stanislav-yovanovitch/
LOCATION:St John the Evangelist Church\, Taunton\, Park Street\, Taunton\, Somerset\, TA1 4DG\, United Kingdom
CATEGORIES:Music - Recital
ATTACH;FMTTYPE=image/jpeg:https://tapa.org.uk/wp-content/uploads/2024/09/IMG_0547-2-scaled.jpeg
ORGANIZER;CN="St John the Evangelist Church%2C Park Street%2C Taunton":MAILTO:french.michaelfrench@gmail.com
GEO:51.0133012;-3.1091756
X-APPLE-STRUCTURED-LOCATION;VALUE=URI;X-ADDRESS=St John the Evangelist Church Taunton Park Street Taunton Somerset TA1 4DG United Kingdom;X-APPLE-RADIUS=500;X-TITLE=Park Street:geo:-3.1091756,51.0133012
END:VEVENT
END:VCALENDAR