BEGIN:VCALENDAR
VERSION:2.0
PRODID:-//Taunton Association of Performing Arts - ECPv6.15.20//NONSGML v1.0//EN
CALSCALE:GREGORIAN
METHOD:PUBLISH
X-WR-CALNAME:Taunton Association of Performing Arts
X-ORIGINAL-URL:https://tapa.org.uk
X-WR-CALDESC:Events for Taunton Association of Performing Arts
REFRESH-INTERVAL;VALUE=DURATION:PT1H
X-Robots-Tag:noindex
X-PUBLISHED-TTL:PT1H
BEGIN:VTIMEZONE
TZID:Europe/London
BEGIN:DAYLIGHT
TZOFFSETFROM:+0000
TZOFFSETTO:+0100
TZNAME:BST
DTSTART:20230326T010000
END:DAYLIGHT
BEGIN:STANDARD
TZOFFSETFROM:+0100
TZOFFSETTO:+0000
TZNAME:GMT
DTSTART:20231029T010000
END:STANDARD
BEGIN:DAYLIGHT
TZOFFSETFROM:+0000
TZOFFSETTO:+0100
TZNAME:BST
DTSTART:20240331T010000
END:DAYLIGHT
BEGIN:STANDARD
TZOFFSETFROM:+0100
TZOFFSETTO:+0000
TZNAME:GMT
DTSTART:20241027T010000
END:STANDARD
BEGIN:DAYLIGHT
TZOFFSETFROM:+0000
TZOFFSETTO:+0100
TZNAME:BST
DTSTART:20250330T010000
END:DAYLIGHT
BEGIN:STANDARD
TZOFFSETFROM:+0100
TZOFFSETTO:+0000
TZNAME:GMT
DTSTART:20251026T010000
END:STANDARD
END:VTIMEZONE
BEGIN:VEVENT
DTSTART;TZID=Europe/London:20241005T150000
DTEND;TZID=Europe/London:20241005T163000
DTSTAMP:20260424T024830
CREATED:20240801T201446Z
LAST-MODIFIED:20240828T175748Z
UID:10013256-1728140400-1728145800@tapa.org.uk
SUMMARY:Somerset Chamber Choir Amicus Piano Recital by Anita D’Attellis
DESCRIPTION:Piano Recital\nSchubert – Four Impromptus (D899)\nGershwin – Rhapsody in Blue\nScriabin – Sonate-Fantasie (Op 19)\nRachmaninov – Rhapsody on a Theme of Paganini (18th  Variation)\nLiszt – Hungarian Rhapsody No 2\nWe are delighted that Anita D’Attellis\, the choir’s principal accompanist\, will give the second concert in our Amicus Recital Series. This series is an opportunity for us to showcase some very good friends of the choir\, performing a programme of well-known and popular works\, interspersed with something less familiar. \nAnita has performed extensively as a solo and concerto pianist and chamber musician\, with recitals at the Brighton and Cheltenham International Festivals\, Snape Maltings\, the Royal Festival Hall\, the Royal Albert Hall and the Symphony Hall\, Birmingham. This ‘rhapsodic’ recital will be a wonderful opportunity to witness Anita’s virtuosic playing at close hand\, a real treat!
URL:https://tapa.org.uk/event/somerset-chamber-choir-amicus-piano-recital-by-anita-dattellis/
LOCATION:Taunton Minster (St Mary Magdalene Church)\, Church Square\, Taunton\, Somerset\, TA1 1SA\, United Kingdom
CATEGORIES:Music - Recital
ATTACH;FMTTYPE=image/jpeg:https://tapa.org.uk/wp-content/uploads/2024/08/Anita-2.jpg
GEO:51.0156693;-3.1012102
X-APPLE-STRUCTURED-LOCATION;VALUE=URI;X-ADDRESS=Taunton Minster (St Mary Magdalene Church) Church Square Taunton Somerset TA1 1SA United Kingdom;X-APPLE-RADIUS=500;X-TITLE=Church Square:geo:-3.1012102,51.0156693
END:VEVENT
BEGIN:VEVENT
DTSTART;TZID=Europe/London:20241025T193000
DTEND;TZID=Europe/London:20241025T210000
DTSTAMP:20260424T024830
CREATED:20240924T112508Z
LAST-MODIFIED:20240924T112508Z
UID:10013285-1729884600-1729890000@tapa.org.uk
SUMMARY:Blackdowns Early Music Projects - The King's Flutes
DESCRIPTION:Professional series: We are delighted to welcome the international ensemble Phaedrus\, as part of their UK tour following an appearance at the Cambridge Early Music Festival.\nEmma-Lisa Roux  (voice & & lute) with Mara Winter\, Charlotte Schneider and  Luis Martinez Pueyo (renaissance flute consort) are bringing a programme entitled The King’s Flutes\, referring to the 72 Renaissance flutes found in Henry VIII’s collection. The ensemble first came together while studying at the renowned Swiss music centre\, Schola Cantorum Basiliensis.\nIn England\, one of the greatest patrons of the arts was Henry VIII who developed the cultural and musical splendour of the Tudor court\, and it is music of this time that the members of Phaedrus are bringing to Culmstock in October.
URL:https://tapa.org.uk/event/blackdowns-early-music-projects-the-kings-flutes/
LOCATION:All Saints Church\, Culmstock\, Fore Street\,\, CULMSTOCK\, Devon\, EX15 3JD\, United Kingdom
CATEGORIES:Music - Recital
GEO:50.9140223;-3.2794674
X-APPLE-STRUCTURED-LOCATION;VALUE=URI;X-ADDRESS=All Saints Church Culmstock Fore Street CULMSTOCK Devon EX15 3JD United Kingdom;X-APPLE-RADIUS=500;X-TITLE=Fore Street\,:geo:-3.2794674,50.9140223
END:VEVENT
BEGIN:VEVENT
DTSTART;TZID=Europe/London:20241027T140000
DTEND;TZID=Europe/London:20241027T170000
DTSTAMP:20260424T024830
CREATED:20240122T124140Z
LAST-MODIFIED:20240122T130207Z
UID:10010283-1730037600-1730048400@tapa.org.uk
SUMMARY:Arquebus
DESCRIPTION:Arquebus is a dynamic Somerset based folk trio formed by local guitarist\, Sam Patten. With a mixture of foot stomping fiddle tunes and upbeat songs\, playing with the energy of a band that loves what it does\, this is not to be missed. The programme will be a mixture self-written songs and traditional tunes- jigs\, reels and hornpipes.\n‘The name is a long story\, says Sam Patten\, ‘but basically an arquebus was one of the first types of musket from the 15th century. It all comes from a comment someone made when we first started about how the arquebus was a bit hit & miss and you would basically set fire to it and hope for the best. Our bass player joked that it was a bit like our playing and the name stuck.’\nHe added: ‘Yeah we just liked the sound of it and again as our bass player is fond if saying\, much like the gun there’s a certain amount if backfiring!’
URL:https://tapa.org.uk/event/arquebus/
LOCATION:St Mary’s Church\, Westonzoyland\, Westonzoyland\, Somerset\, TA7 0EP\, United Kingdom
CATEGORIES:Music - Recital
ATTACH;FMTTYPE=image/jpeg:https://tapa.org.uk/wp-content/uploads/2024/01/image1.jpg
ORGANIZER;CN="Music on the Levels":MAILTO:franklighthouse2010@live.co.uk
END:VEVENT
END:VCALENDAR