BEGIN:VCALENDAR
VERSION:2.0
PRODID:-//Taunton Association of Performing Arts - ECPv6.15.20//NONSGML v1.0//EN
CALSCALE:GREGORIAN
METHOD:PUBLISH
X-WR-CALNAME:Taunton Association of Performing Arts
X-ORIGINAL-URL:https://tapa.org.uk
X-WR-CALDESC:Events for Taunton Association of Performing Arts
REFRESH-INTERVAL;VALUE=DURATION:PT1H
X-Robots-Tag:noindex
X-PUBLISHED-TTL:PT1H
BEGIN:VTIMEZONE
TZID:Europe/London
BEGIN:DAYLIGHT
TZOFFSETFROM:+0000
TZOFFSETTO:+0100
TZNAME:BST
DTSTART:20230326T010000
END:DAYLIGHT
BEGIN:STANDARD
TZOFFSETFROM:+0100
TZOFFSETTO:+0000
TZNAME:GMT
DTSTART:20231029T010000
END:STANDARD
BEGIN:DAYLIGHT
TZOFFSETFROM:+0000
TZOFFSETTO:+0100
TZNAME:BST
DTSTART:20240331T010000
END:DAYLIGHT
BEGIN:STANDARD
TZOFFSETFROM:+0100
TZOFFSETTO:+0000
TZNAME:GMT
DTSTART:20241027T010000
END:STANDARD
BEGIN:DAYLIGHT
TZOFFSETFROM:+0000
TZOFFSETTO:+0100
TZNAME:BST
DTSTART:20250330T010000
END:DAYLIGHT
BEGIN:STANDARD
TZOFFSETFROM:+0100
TZOFFSETTO:+0000
TZNAME:GMT
DTSTART:20251026T010000
END:STANDARD
END:VTIMEZONE
BEGIN:VEVENT
DTSTART;TZID=Europe/London:20240908T150000
DTEND;TZID=Europe/London:20240908T170000
DTSTAMP:20260424T041346
CREATED:20240618T190247Z
LAST-MODIFIED:20240723T190106Z
UID:10013243-1725807600-1725814800@tapa.org.uk
SUMMARY:Piano Recital – MICHAEL MONTAVONT
DESCRIPTION:This is the first performance in a   series of piano recitals and related educational events inspired by the solo piano recital on the visit of Franz LISZT to TAUNTON in 1840 devised & promoted by Normandy Piano Courses. \nMICHAEL MONTAVONT is the Artistic Director of Normandy Piano Courses.\nHis programme will include Beethoven Sonata in A flat op26 and Liszt Transcriptions of lieder by Schubert.
URL:https://tapa.org.uk/event/piano-recital-michael-montavont/
LOCATION:St John the Evangelist Church\, Taunton\, Park Street\, Taunton\, Somerset\, TA1 4DG\, United Kingdom
CATEGORIES:Music - Recital
ATTACH;FMTTYPE=image/jpeg:https://tapa.org.uk/wp-content/uploads/2024/06/IMG_2663-1-rotated.jpg
ORGANIZER;CN="St John the Evangelist Church%2C Park Street%2C Taunton":MAILTO:french.michaelfrench@gmail.com
GEO:51.0133012;-3.1091756
X-APPLE-STRUCTURED-LOCATION;VALUE=URI;X-ADDRESS=St John the Evangelist Church Taunton Park Street Taunton Somerset TA1 4DG United Kingdom;X-APPLE-RADIUS=500;X-TITLE=Park Street:geo:-3.1091756,51.0133012
END:VEVENT
BEGIN:VEVENT
DTSTART;TZID=Europe/London:20240913T120000
DTEND;TZID=Europe/London:20240913T140000
DTSTAMP:20260424T041346
CREATED:20240414T215417Z
LAST-MODIFIED:20240520T175952Z
UID:10013221-1726228800-1726236000@tapa.org.uk
SUMMARY:Lunchtime Concert – KCT New Year Cocert
DESCRIPTION:Pupils from King’s College\, Taunton provide a programme of solos\, chamber music and jazz at the first performance of the new academic year. \nRetiring collection will be in aid of Versus Arthritis and St John’s Church.
URL:https://tapa.org.uk/event/lunchtime-concert-kct-new-year-cocert/
LOCATION:St John the Evangelist Church\, Taunton\, Park Street\, Taunton\, Somerset\, TA1 4DG\, United Kingdom
CATEGORIES:Music - Recital
GEO:51.0133012;-3.1091756
X-APPLE-STRUCTURED-LOCATION;VALUE=URI;X-ADDRESS=St John the Evangelist Church Taunton Park Street Taunton Somerset TA1 4DG United Kingdom;X-APPLE-RADIUS=500;X-TITLE=Park Street:geo:-3.1091756,51.0133012
END:VEVENT
BEGIN:VEVENT
DTSTART;TZID=Europe/London:20240927T080000
DTEND;TZID=Europe/London:20240927T170000
DTSTAMP:20260424T041346
CREATED:20240618T184928Z
LAST-MODIFIED:20240722T223733Z
UID:10013252-1727424000-1727456400@tapa.org.uk
SUMMARY:Piano Recital – PATRICK HEMMERLÉ
DESCRIPTION:This recital is one of a series of piano recitals and related educational events inspired by the solo piano recital on the visit of Franz LISZT to TAUNTON in 1840 devised and promoted by Normandy Piano Courses. \nProgramme will include BEETHOVEN Sonata in C minor op111 and LISZT Sonata in b minor. \nFind out more about Patrick Hemmerlé by following to link below to his website.  \nTickets can be purchased via the link below.  Young accompanied by an adult are allowed free admission.  \nhttps://www.ticketsource.co.uk/null/t-jzpykvv
URL:https://tapa.org.uk/event/piano-recital-patrick-hemmerle/2024-09-27/1/
LOCATION:St John the Evangelist Church\, Taunton\, Park Street\, Taunton\, Somerset\, TA1 4DG\, United Kingdom
CATEGORIES:Music - Recital
ATTACH;FMTTYPE=image/jpeg:https://tapa.org.uk/wp-content/uploads/2024/06/13E289F5-A6BC-4EFC-B2EC-00CD5087FDA2.jpeg
ORGANIZER;CN="St John the Evangelist Church%2C Park Street%2C Taunton":MAILTO:french.michaelfrench@gmail.com
GEO:51.0133012;-3.1091756
X-APPLE-STRUCTURED-LOCATION;VALUE=URI;X-ADDRESS=St John the Evangelist Church Taunton Park Street Taunton Somerset TA1 4DG United Kingdom;X-APPLE-RADIUS=500;X-TITLE=Park Street:geo:-3.1091756,51.0133012
END:VEVENT
BEGIN:VEVENT
DTSTART;TZID=Europe/London:20240927T193000
DTEND;TZID=Europe/London:20240927T213000
DTSTAMP:20260424T041346
CREATED:20240618T184928Z
LAST-MODIFIED:20240722T223733Z
UID:10013242-1727465400-1727472600@tapa.org.uk
SUMMARY:Piano Recital – PATRICK HEMMERLÉ
DESCRIPTION:This recital is one of a series of piano recitals and related educational events inspired by the solo piano recital on the visit of Franz LISZT to TAUNTON in 1840 devised and promoted by Normandy Piano Courses. \nProgramme will include BEETHOVEN Sonata in C minor op111 and LISZT Sonata in b minor. \nFind out more about Patrick Hemmerlé by following to link below to his website.  \nTickets can be purchased via the link below.  Young accompanied by an adult are allowed free admission.  \nhttps://www.ticketsource.co.uk/null/t-jzpykvv
URL:https://tapa.org.uk/event/piano-recital-patrick-hemmerle/2024-09-27/2/
LOCATION:St John the Evangelist Church\, Taunton\, Park Street\, Taunton\, Somerset\, TA1 4DG\, United Kingdom
CATEGORIES:Music - Recital
ATTACH;FMTTYPE=image/jpeg:https://tapa.org.uk/wp-content/uploads/2024/06/13E289F5-A6BC-4EFC-B2EC-00CD5087FDA2.jpeg
ORGANIZER;CN="St John the Evangelist Church%2C Park Street%2C Taunton":MAILTO:french.michaelfrench@gmail.com
GEO:51.0133012;-3.1091756
X-APPLE-STRUCTURED-LOCATION;VALUE=URI;X-ADDRESS=St John the Evangelist Church Taunton Park Street Taunton Somerset TA1 4DG United Kingdom;X-APPLE-RADIUS=500;X-TITLE=Park Street:geo:-3.1091756,51.0133012
END:VEVENT
BEGIN:VEVENT
DTSTART;TZID=Europe/London:20240929T140000
DTEND;TZID=Europe/London:20240929T170000
DTSTAMP:20260424T041346
CREATED:20240122T123617Z
LAST-MODIFIED:20240122T125424Z
UID:10010282-1727618400-1727629200@tapa.org.uk
SUMMARY:Reg Meuross
DESCRIPTION:Somerset’s own troubadour. The breadth and depth of his material is unparalleled in contemporary folk: songs about forgotten heroes\, famous names\, folk legends\, the climate emergency\, tales from the kitchen sink and news from the world stage.\nSomeone said: ‘If something needs to be sung about then Reg Meuross has a song for it!’ And this proved to be the case when Reg performed here in February 2020 with a especially composed song about Westonzoyland. Challenged by a resident in 2010 to write a song about the village\, the composition became a moving tribute to the many who fought and died in the Battle of Weston in 1685\, and travesty of justice that followed.\nMeuross has the gift of being able to touch people through his songs and performance\, painting pictures that remain with the listener long after the song has been sung.\n“I’m happy to be returning to sing in this beautiful church\, to a wonderful audience and community\,” says Reg. \nAs usual\, the concert will take place in in St Mary’s Church\, Main Road\, Westonzoyland\, TA7 0EP. Starting at 3 pm with refreshments served from 2.15 pm.  \nThere is no need to book but please note seats are available on a first come\, first served basis.\nIn order to help with the artists’ and other costs we hold a raffle. In addition\, we welcome donations.
URL:https://tapa.org.uk/event/reg-meuross/
LOCATION:St Mary’s Church\, Westonzoyland\, Westonzoyland\, Somerset\, TA7 0EP\, United Kingdom
CATEGORIES:Music - Recital
ATTACH;FMTTYPE=image/jpeg:https://tapa.org.uk/wp-content/uploads/2024/01/IMG_4648.jpeg
ORGANIZER;CN="Music on the Levels":MAILTO:franklighthouse2010@live.co.uk
END:VEVENT
END:VCALENDAR