BEGIN:VCALENDAR
VERSION:2.0
PRODID:-//Taunton Association of Performing Arts - ECPv6.15.20//NONSGML v1.0//EN
CALSCALE:GREGORIAN
METHOD:PUBLISH
X-WR-CALNAME:Taunton Association of Performing Arts
X-ORIGINAL-URL:https://tapa.org.uk
X-WR-CALDESC:Events for Taunton Association of Performing Arts
REFRESH-INTERVAL;VALUE=DURATION:PT1H
X-Robots-Tag:noindex
X-PUBLISHED-TTL:PT1H
BEGIN:VTIMEZONE
TZID:Europe/London
BEGIN:DAYLIGHT
TZOFFSETFROM:+0000
TZOFFSETTO:+0100
TZNAME:BST
DTSTART:20230326T010000
END:DAYLIGHT
BEGIN:STANDARD
TZOFFSETFROM:+0100
TZOFFSETTO:+0000
TZNAME:GMT
DTSTART:20231029T010000
END:STANDARD
BEGIN:DAYLIGHT
TZOFFSETFROM:+0000
TZOFFSETTO:+0100
TZNAME:BST
DTSTART:20240331T010000
END:DAYLIGHT
BEGIN:STANDARD
TZOFFSETFROM:+0100
TZOFFSETTO:+0000
TZNAME:GMT
DTSTART:20241027T010000
END:STANDARD
BEGIN:DAYLIGHT
TZOFFSETFROM:+0000
TZOFFSETTO:+0100
TZNAME:BST
DTSTART:20250330T010000
END:DAYLIGHT
BEGIN:STANDARD
TZOFFSETFROM:+0100
TZOFFSETTO:+0000
TZNAME:GMT
DTSTART:20251026T010000
END:STANDARD
END:VTIMEZONE
BEGIN:VEVENT
DTSTART;TZID=Europe/London:20240712T120000
DTEND;TZID=Europe/London:20240712T140000
DTSTAMP:20260424T065224
CREATED:20240414T212523Z
LAST-MODIFIED:20240520T175711Z
UID:10013218-1720785600-1720792800@tapa.org.uk
SUMMARY:TAUNTON YOUNG SINGERS
DESCRIPTION:Taunton Festival of the Arts organised three competitions for young singers in March of this year.  Some of the prize winners from these events have been invited to St. John’s to share their programmes of music with the audience.   Do come and hear for yourselves the high standard of musicianship and performance achieved by these young people.\nRetiring collection in aid of Taunton Festival of the Arts and St. John’s Church.
URL:https://tapa.org.uk/event/taunton-young-singers/
LOCATION:St John the Evangelist Church\, Taunton\, Park Street\, Taunton\, Somerset\, TA1 4DG\, United Kingdom
CATEGORIES:Music - Recital
ORGANIZER;CN="St John the Evangelist Church%2C Park Street%2C Taunton":MAILTO:french.michaelfrench@gmail.com
GEO:51.0133012;-3.1091756
X-APPLE-STRUCTURED-LOCATION;VALUE=URI;X-ADDRESS=St John the Evangelist Church Taunton Park Street Taunton Somerset TA1 4DG United Kingdom;X-APPLE-RADIUS=500;X-TITLE=Park Street:geo:-3.1091756,51.0133012
END:VEVENT
END:VCALENDAR