BEGIN:VCALENDAR
VERSION:2.0
PRODID:-//Taunton Association of Performing Arts - ECPv6.15.20//NONSGML v1.0//EN
CALSCALE:GREGORIAN
METHOD:PUBLISH
X-WR-CALNAME:Taunton Association of Performing Arts
X-ORIGINAL-URL:https://tapa.org.uk
X-WR-CALDESC:Events for Taunton Association of Performing Arts
REFRESH-INTERVAL;VALUE=DURATION:PT1H
X-Robots-Tag:noindex
X-PUBLISHED-TTL:PT1H
BEGIN:VTIMEZONE
TZID:Europe/London
BEGIN:DAYLIGHT
TZOFFSETFROM:+0000
TZOFFSETTO:+0100
TZNAME:BST
DTSTART:20230326T010000
END:DAYLIGHT
BEGIN:STANDARD
TZOFFSETFROM:+0100
TZOFFSETTO:+0000
TZNAME:GMT
DTSTART:20231029T010000
END:STANDARD
BEGIN:DAYLIGHT
TZOFFSETFROM:+0000
TZOFFSETTO:+0100
TZNAME:BST
DTSTART:20240331T010000
END:DAYLIGHT
BEGIN:STANDARD
TZOFFSETFROM:+0100
TZOFFSETTO:+0000
TZNAME:GMT
DTSTART:20241027T010000
END:STANDARD
BEGIN:DAYLIGHT
TZOFFSETFROM:+0000
TZOFFSETTO:+0100
TZNAME:BST
DTSTART:20250330T010000
END:DAYLIGHT
BEGIN:STANDARD
TZOFFSETFROM:+0100
TZOFFSETTO:+0000
TZNAME:GMT
DTSTART:20251026T010000
END:STANDARD
END:VTIMEZONE
BEGIN:VEVENT
DTSTART;TZID=Europe/London:20240614T120000
DTEND;TZID=Europe/London:20240614T140000
DTSTAMP:20260424T082537
CREATED:20240412T203108Z
LAST-MODIFIED:20240520T175436Z
UID:10013217-1718366400-1718373600@tapa.org.uk
SUMMARY:Lunchtime Concert – Search of Light in Desperation
DESCRIPTION:Sarah Wynne\, well known local soprano has arranged a programme by combining art song and arias\, hopes to reflect times of hardship\, different struggles\, and testing times. Although despite what may often seem as never ending\, there can be glimmers of light and hope along the way that can be an anchor through turbulent times.\nRetiring collection in aid of BEAT\,  the UK’s charity committed to help those with eating disorders and St John’s Church.
URL:https://tapa.org.uk/event/lunchtime-concert-search-of-light-in-desperation/
LOCATION:St John the Evangelist Church\, Taunton\, Park Street\, Taunton\, Somerset\, TA1 4DG\, United Kingdom
CATEGORIES:Music - Recital
ORGANIZER;CN="St John the Evangelist Church%2C Park Street%2C Taunton":MAILTO:french.michaelfrench@gmail.com
GEO:51.0133012;-3.1091756
X-APPLE-STRUCTURED-LOCATION;VALUE=URI;X-ADDRESS=St John the Evangelist Church Taunton Park Street Taunton Somerset TA1 4DG United Kingdom;X-APPLE-RADIUS=500;X-TITLE=Park Street:geo:-3.1091756,51.0133012
END:VEVENT
BEGIN:VEVENT
DTSTART;TZID=Europe/London:20240615T193000
DTEND;TZID=Europe/London:20240615T213000
DTSTAMP:20260424T082537
CREATED:20230508T090129Z
LAST-MODIFIED:20240404T175954Z
UID:10010238-1718479800-1718487000@tapa.org.uk
SUMMARY:Collegium Singers Summer Concert – In Every Corner Sing!
DESCRIPTION:Summer Concert.\nMusic from the King’s Coronation and the Commonwealth \nPROGRAMME \nSinget dem Herrn ein neues Lied BWV 190 – JS Bach\nSing Joyfully – William Byrd\nCantate Domino – Heinrich Schutz\n5 Mystical Songs: Easter	Ralph Vaughan Williams\n5 Mystical Songs: I got me flowers	Ralph Vaughan Williams\n5 Mystical Songs: Love bade me welcome	Ralph Vaughan Williams\n5 Mystical Songs: The Call	Ralph Vaughan Williams\n5 Mystical Songs: Antiphon	Ralph Vaughan Williams\nINTERVAL\nCoronation Kyrie eleison – Paul Mealor\nConfortate – Henry Walford Davies\nLay a Garland – Robert Pearsall\nAll things are quite silent – Kerry Andrew\nThe Turtle Dove – Ralph Vaughan Williams\nLassie\, wad ye loe me	James Macmillan\nLoch lomond	Ralph Vaughan Williams\nStar of the County Down – Ben Parry\nWellerman – Traditional\nBlest pair of sirens – Hubert Parry
URL:https://tapa.org.uk/event/collegium-singers-summer-concert-4/
LOCATION:St John the Evangelist Church\, Taunton\, Park Street\, Taunton\, Somerset\, TA1 4DG\, United Kingdom
CATEGORIES:Music - Choral,Music - Recital
ATTACH;FMTTYPE=image/jpeg:https://tapa.org.uk/wp-content/uploads/2023/05/alt-2-20240615-Poster-web-draft.jpeg
GEO:51.0133012;-3.1091756
X-APPLE-STRUCTURED-LOCATION;VALUE=URI;X-ADDRESS=St John the Evangelist Church Taunton Park Street Taunton Somerset TA1 4DG United Kingdom;X-APPLE-RADIUS=500;X-TITLE=Park Street:geo:-3.1091756,51.0133012
END:VEVENT
END:VCALENDAR