BEGIN:VCALENDAR
VERSION:2.0
PRODID:-//Taunton Association of Performing Arts - ECPv6.15.20//NONSGML v1.0//EN
CALSCALE:GREGORIAN
METHOD:PUBLISH
X-ORIGINAL-URL:https://tapa.org.uk
X-WR-CALDESC:Events for Taunton Association of Performing Arts
REFRESH-INTERVAL;VALUE=DURATION:PT1H
X-Robots-Tag:noindex
X-PUBLISHED-TTL:PT1H
BEGIN:VTIMEZONE
TZID:Europe/London
BEGIN:DAYLIGHT
TZOFFSETFROM:+0000
TZOFFSETTO:+0100
TZNAME:BST
DTSTART:20230326T010000
END:DAYLIGHT
BEGIN:STANDARD
TZOFFSETFROM:+0100
TZOFFSETTO:+0000
TZNAME:GMT
DTSTART:20231029T010000
END:STANDARD
BEGIN:DAYLIGHT
TZOFFSETFROM:+0000
TZOFFSETTO:+0100
TZNAME:BST
DTSTART:20240331T010000
END:DAYLIGHT
BEGIN:STANDARD
TZOFFSETFROM:+0100
TZOFFSETTO:+0000
TZNAME:GMT
DTSTART:20241027T010000
END:STANDARD
BEGIN:DAYLIGHT
TZOFFSETFROM:+0000
TZOFFSETTO:+0100
TZNAME:BST
DTSTART:20250330T010000
END:DAYLIGHT
BEGIN:STANDARD
TZOFFSETFROM:+0100
TZOFFSETTO:+0000
TZNAME:GMT
DTSTART:20251026T010000
END:STANDARD
END:VTIMEZONE
BEGIN:VEVENT
DTSTART;TZID=Europe/London:20240413T193000
DTEND;TZID=Europe/London:20240413T213000
DTSTAMP:20260424T104436
CREATED:20230829T113643Z
LAST-MODIFIED:20230829T113643Z
UID:10010245-1713036600-1713043800@tapa.org.uk
SUMMARY:Southern Sinfonia's Spring Celebration
DESCRIPTION:Classical Music Concert
URL:https://tapa.org.uk/event/southern-sinfonias-spring-celebration/
LOCATION:Taunton Minster (St Mary Magdalene Church)\, Church Square\, Taunton\, Somerset\, TA1 1SA\, United Kingdom
CATEGORIES:Music - Orchestral
ORGANIZER;CN="Southern Sinfonia":MAILTO:Info@southernsinfonia.co.uk
GEO:51.0156693;-3.1012102
X-APPLE-STRUCTURED-LOCATION;VALUE=URI;X-ADDRESS=Taunton Minster (St Mary Magdalene Church) Church Square Taunton Somerset TA1 1SA United Kingdom;X-APPLE-RADIUS=500;X-TITLE=Church Square:geo:-3.1012102,51.0156693
END:VEVENT
END:VCALENDAR